BEGIN:VCALENDAR
VERSION:2.0
PRODID:-//Cultura - ECPv6.15.20//NONSGML v1.0//EN
CALSCALE:GREGORIAN
METHOD:PUBLISH
X-ORIGINAL-URL:https://cultura.guanajuato.gob.mx
X-WR-CALDESC:Eventos para Cultura
REFRESH-INTERVAL;VALUE=DURATION:PT1H
X-Robots-Tag:noindex
X-PUBLISHED-TTL:PT1H
BEGIN:VTIMEZONE
TZID:UTC
BEGIN:STANDARD
TZOFFSETFROM:+0000
TZOFFSETTO:+0000
TZNAME:UTC
DTSTART:20240101T000000
END:STANDARD
END:VTIMEZONE
BEGIN:VTIMEZONE
TZID:America/Mexico_City
BEGIN:STANDARD
TZOFFSETFROM:-0600
TZOFFSETTO:-0600
TZNAME:CST
DTSTART:20240101T000000
END:STANDARD
END:VTIMEZONE
BEGIN:VEVENT
DTSTART;TZID=UTC:20250802T200000
DTEND;TZID=UTC:20250802T220000
DTSTAMP:20260421T203358
CREATED:20250716T194643Z
LAST-MODIFIED:20250801T173112Z
UID:10653-1754164800-1754172000@cultura.guanajuato.gob.mx
SUMMARY:Allá\, en el jardín
DESCRIPTION:Allá\, en el jardín es una invitación al jardín de dos individuos que revelan la belleza de los mecanismos de escucha. En su práctica de escuchar a escondidas a la naturaleza\, descubren mundos sonoros y su resonancia en el campo visual. Los traducen a través de sus propios cuerpos para expandir los potenciales imaginativos que albergan y observan su alineación con el mundo del movimiento. \nUrška Centa\, coreógrafa y bailarina\, y Domen Novak\, actor\, guían al público en una actuación de sonido y movimiento impulsada por el instinto puro y la curiosidad. Así\, se crean conexiones y se tejen relaciones que cuestionan las secuencias lineales de los acontecimientos. \nConciben el jardín como un espacio de juego\, un microcosmos de las interacciones\nhumanas\, una estructura de comunidad y un lugar para explorar distintas constelaciones de relaciones: un lugar de invitación. Juntos observan las reacciones en cadena que surgen dentro y más allá del jardín\, subrayando el papel de los sentidos en la configuración de la experiencia humana. \nDuración aproximada: 60 minutos sin intermedio\nRecomendado a partir de 15 años. \nTeatro Estudio del Teatro del Bicentenario Roberto Plasencia Saldaña. León\nSábado 02 de agosto\n20:00 h\nAcceso gratuito con boleto de acceso.\nLos boletos serán entregados el viernes 01 de agosto en la taquilla del Teatro del\nBicentenario Roberto Plasencia Saldaña del Forum\nMáximo dos boletos por persona hasta agotar localidades. \nTeatro Juárez. Guanajuato\nJueves 07 de agosto\n20:00 h\nAcceso gratuito\, sin boleto ni registro previo. Cupo limitado.
URL:https://cultura.guanajuato.gob.mx/index.php/evento/alla-en-el-jardin/
LOCATION:Teatro Estudio del Teatro del Bicentenario Roberto Plasencia Saldaña\, Prol. C. Calz. de los Héroes 908\, La Martinica\, León\, Guanajuato\, 37500
CATEGORIES:Danza
ATTACH;FMTTYPE=image/png:https://cultura.guanajuato.gob.mx/wp-content/uploads/2025/07/Cartel-11.png
END:VEVENT
BEGIN:VEVENT
DTSTART;TZID=UTC:20250803T100000
DTEND;TZID=UTC:20250803T140000
DTSTAMP:20260421T203358
CREATED:20250716T195141Z
LAST-MODIFIED:20250801T172714Z
UID:10656-1754215200-1754229600@cultura.guanajuato.gob.mx
SUMMARY:Taller de coreografía: Topografía del cuerpo
DESCRIPTION:Topografía del cuerpo\nImparte: Urška Centa \nDomingo 3 y lunes 4 de agosto\n10 a 14 horas \nDescripción: Topografía del cuerpo es un laboratorio que entrelaza prácticas somáticas\, elementos del flamenco y la danza contemporánea\, así como investigaciones vocales y rítmicas. El punto de partida es el cuerpo como medio multidimensional: archivo\, mapa y fuente de significado. \nMetodología y enfoque: A través de tareas sensoriales\, rítmicas y de movimiento\, los y las participantes explorarán su propia topografía artística – registros corporales de experiencias pasadas\, influencias culturales\, voces y paisajes que llevamos dentro-.\nEl enfoque se basa en la práctica cotidiana\, la escucha y la improvisación\, incluyendo trabajo con micro movimientos\, impulsos sonoros\, palmas\, zapateados\, voz y dibujo.\nEl cuerpo se entiende como un puente entre el impulso interno y el mundo exterior\,\ncreando significado no a través de la representación\, sino mediante la presencia. Se pone especial énfasis en la conexión entre distintos lenguajes artísticos y en el entrelazamiento de orígenes culturales y corporales que cada persona aporta – pues es precisamente en esta diversidad donde emergen las expresiones más complejas y verdaderas-. \nDirigido a: El taller está dirigido a bailarines con experiencia\, y también está abierto a performers\, creadores de teatro físico y otros artistas interesados en investigar el cuerpo como instrumento artístico. \nLos participantes deben acudir con ropa de trabajo\, libreta para apuntes e\, idealmente\, zapatos de flamenco\nCupo limitado \nSin costo\nInteresados registrarse en el siguiente formulario: \nhttps://docs.google.com/forms/d/e/1FAIpQLSc9V1R7kMhHe-uefu1YOLyL5cyvC5zVn4eJu0i0AEySMkUiZw/viewform?usp=header
URL:https://cultura.guanajuato.gob.mx/index.php/evento/taller-de-coreografia-topografia-del-cuerpo/
LOCATION:Teatro Estudio del Teatro del Bicentenario Roberto Plasencia Saldaña\, Prol. C. Calz. de los Héroes 908\, La Martinica\, León\, Guanajuato\, 37500
CATEGORIES:Danza
ATTACH;FMTTYPE=image/png:https://cultura.guanajuato.gob.mx/wp-content/uploads/2025/07/Cartel-10.png
END:VEVENT
BEGIN:VEVENT
DTSTART;TZID=UTC:20250804T100000
DTEND;TZID=UTC:20250804T140000
DTSTAMP:20260421T203358
CREATED:20250716T195158Z
LAST-MODIFIED:20250801T172737Z
UID:10655-1754301600-1754316000@cultura.guanajuato.gob.mx
SUMMARY:Taller de coreografía: Topografía del cuerpo
DESCRIPTION:Topografía del cuerpo\nImparte: Urška Centa \nDomingo 3 y lunes 4 de agosto\n10 a 14 horas \nDescripción: Topografía del cuerpo es un laboratorio que entrelaza prácticas somáticas\, elementos del flamenco y la danza contemporánea\, así como investigaciones vocales y rítmicas. El punto de partida es el cuerpo como medio multidimensional: archivo\, mapa y fuente de significado. \nMetodología y enfoque: A través de tareas sensoriales\, rítmicas y de movimiento\, los y las participantes explorarán su propia topografía artística – registros corporales de experiencias pasadas\, influencias culturales\, voces y paisajes que llevamos dentro-.\nEl enfoque se basa en la práctica cotidiana\, la escucha y la improvisación\, incluyendo trabajo con micro movimientos\, impulsos sonoros\, palmas\, zapateados\, voz y dibujo.\nEl cuerpo se entiende como un puente entre el impulso interno y el mundo exterior\,\ncreando significado no a través de la representación\, sino mediante la presencia. Se pone especial énfasis en la conexión entre distintos lenguajes artísticos y en el entrelazamiento de orígenes culturales y corporales que cada persona aporta – pues es precisamente en esta diversidad donde emergen las expresiones más complejas y verdaderas-. \nDirigido a: El taller está dirigido a bailarines con experiencia\, y también está abierto a performers\, creadores de teatro físico y otros artistas interesados en investigar el cuerpo como instrumento artístico. \nLos participantes deben acudir con ropa de trabajo\, libreta para apuntes e\, idealmente\, zapatos de flamenco\nCupo limitado \nSin costo\nInteresados registrarse en el siguiente formulario: \nhttps://docs.google.com/forms/d/e/1FAIpQLSc9V1R7kMhHe-uefu1YOLyL5cyvC5zVn4eJu0i0AEySMkUiZw/viewform?usp=header
URL:https://cultura.guanajuato.gob.mx/index.php/evento/taller-de-coreografia-topografia-del-cuerpo-2/
LOCATION:Teatro Estudio del Teatro del Bicentenario Roberto Plasencia Saldaña\, Prol. C. Calz. de los Héroes 908\, La Martinica\, León\, Guanajuato\, 37500
CATEGORIES:Danza
ATTACH;FMTTYPE=image/png:https://cultura.guanajuato.gob.mx/wp-content/uploads/2025/07/Cartel-10.png
END:VEVENT
BEGIN:VEVENT
DTSTART;TZID=America/Mexico_City:20250810T120000
DTEND;TZID=America/Mexico_City:20250810T130000
DTSTAMP:20260421T203358
CREATED:20250728T210909Z
LAST-MODIFIED:20250728T210909Z
UID:10845-1754827200-1754830800@cultura.guanajuato.gob.mx
SUMMARY:Machtia Leones. Danza Raíces
DESCRIPTION:Machtia Leones colabora con las maestras del taller de danza de la Secundaria General No. 19 para dar vida al programa “Raíces”\, una propuesta que honra la memoria\, la identidad y el espíritu de nuestra cultura a través del movimiento.\nPrograma: \nFlor de piña (Oaxaca)\nSones de Tixtla (Guerrero)\nJarabe mixteco (Oaxaca)\nCampeche\nChinas Oaxaqueñas\nHuasteca Hidalguense  \nMuseo de Arte e Historia de Guanajuato\nDomingo 10 de agosto\n16:00 hrs\nVestíbulo superior\nSin Costo\nMuseo de Arte e Historia de Guanajuato
URL:https://cultura.guanajuato.gob.mx/index.php/evento/machtia-leones-danza-raices/
LOCATION:Museo de Arte e Historia de Guanajuato\, Prol. C. Calz. de los Heroes 908\, La Martinica\, León\, Guanajuato\, 37500
CATEGORIES:Danza
ATTACH;FMTTYPE=image/jpeg:https://cultura.guanajuato.gob.mx/wp-content/uploads/2025/07/Cartel-32-UqWb4T.jpg
END:VEVENT
BEGIN:VEVENT
DTSTART;TZID=America/Mexico_City:20250824T120000
DTEND;TZID=America/Mexico_City:20250824T130000
DTSTAMP:20260421T203358
CREATED:20250728T214808Z
LAST-MODIFIED:20250728T214808Z
UID:10937-1756036800-1756040400@cultura.guanajuato.gob.mx
SUMMARY:Espacios Incidentales: Danzón\, una costumbre leonesa.
DESCRIPTION:El Colectivo cultural Nanami tiene por objetivo conservar y difundir la tradición del  danzón\, a partir de la impartición de talleres\, que van desde técnicas para guiar\, de giros\, marcaje\, cadencia y sincronización hasta conocimientos básicos de la estructura musical de un danzón. También realizan la exhibición de programas de danzón en diferentes espacios públicos de la ciudad.\nEn el marco de la exposición temporal “Bruno Tapia: Un pintor popular” sé testigo de la maestría de los participantes de este colectivo con una presentación en los espacios del MAHG como símbolo de una de las manifestaciones urbanas y de costumbre leonesa. \nMuseo de Arte e Historia de Guanajuato\nSin costo
URL:https://cultura.guanajuato.gob.mx/index.php/evento/espacios-incidentales-danzon-una-costumbre-leonesa/
LOCATION:Museo de Arte e Historia de Guanajuato\, Prol. C. Calz. de los Heroes 908\, La Martinica\, León\, Guanajuato\, 37500
CATEGORIES:Danza
ATTACH;FMTTYPE=image/jpeg:https://cultura.guanajuato.gob.mx/wp-content/uploads/2025/07/Cartel-72-mC9SZj.jpg
END:VEVENT
BEGIN:VEVENT
DTSTART;TZID=UTC:20250830T200000
DTEND;TZID=UTC:20250830T210000
DTSTAMP:20260421T203358
CREATED:20250728T215900Z
LAST-MODIFIED:20250728T215946Z
UID:10977-1756584000-1756587600@cultura.guanajuato.gob.mx
SUMMARY:Mi luna. Danza contemporánea
DESCRIPTION:Un abrazo de empatía de seis mujeres que guían el camino para reconectar con su valor\, felicidad y autoridad; trazando una experiencia cíclica de lo femenino y la vida\, desprendiéndose de la carga que durante miles de años se ha asociado con su cuerpo y sus procesos naturales.\nProyecto creado dentro de un espacio universitario que ha evolucionado a lo largo de los años\, para transformarse en un movimiento de danza contemporánea de la ciudad. \nSala Principal del Teatro del Bicentenario Roberto Plasencia Saldaña\nSin costo \nEntrada libre\, sin boleto ni registro previo.
URL:https://cultura.guanajuato.gob.mx/index.php/evento/mi-luna-danza-contemporanea/
LOCATION:Sala Principal del Teatro del Bicentenario Roberto Plasencia Saldaña\, Prol\, C. Calz. de los Héroes 908\, La Martinica\, León\, Guanajuato\, 37500
CATEGORIES:Danza
ATTACH;FMTTYPE=image/jpeg:https://cultura.guanajuato.gob.mx/wp-content/uploads/2025/07/00.jpg
END:VEVENT
END:VCALENDAR