BEGIN:VCALENDAR
VERSION:2.0
PRODID:-//Cultura - ECPv6.15.20//NONSGML v1.0//EN
CALSCALE:GREGORIAN
METHOD:PUBLISH
X-WR-CALNAME:Cultura
X-ORIGINAL-URL:https://cultura.guanajuato.gob.mx
X-WR-CALDESC:Eventos para Cultura
REFRESH-INTERVAL;VALUE=DURATION:PT1H
X-Robots-Tag:noindex
X-PUBLISHED-TTL:PT1H
BEGIN:VTIMEZONE
TZID:America/Mexico_City
BEGIN:STANDARD
TZOFFSETFROM:-0600
TZOFFSETTO:-0600
TZNAME:CST
DTSTART:20240101T000000
END:STANDARD
END:VTIMEZONE
BEGIN:VEVENT
DTSTART;TZID=America/Mexico_City:20251205T200000
DTEND;TZID=America/Mexico_City:20251205T220000
DTSTAMP:20260421T100920
CREATED:20251202T234343Z
LAST-MODIFIED:20251202T234343Z
UID:11851-1764964800-1764972000@cultura.guanajuato.gob.mx
SUMMARY:El Cascanueces
DESCRIPTION:Un clásico navideño del ballet universal que recrea\, durante la celebración de la Nochebuena\, un viaje a países maravillosos\, lleno de encanto y fantasía. En la fiesta de Navidad\, Clarita está lista para recibir a sus amigos cuando su padrino\, Drosselmeyer\, los sorprende con juguetes y trucos de magia\, entre los que destaca el regalo para Clarita: un precioso cascanueces que viste un elegante uniforme.\nUna gran producción de la prestigiosa compañía mexicana Ballet de Monterrey\, presentándose con niñas y niños provenientes de academias de danza clásica. Música de Piotr I. Tchaikovsky y coreografía de Luis Serrano basada sobre la original de Lev Ivanov\, con libreto de Marius Petipa. \nEvento Con costo \nLugar: Sala Principal del Teatro del Bicentenario Roberto Plasencia Saldaña\nCiudad: León
URL:https://cultura.guanajuato.gob.mx/index.php/evento/el-cascanueces/
LOCATION:Sala Principal del Teatro del Bicentenario Roberto Plasencia Saldaña\, Prol\, C. Calz. de los Héroes 908\, La Martinica\, León\, Guanajuato\, 37500
CATEGORIES:Danza
ATTACH;FMTTYPE=image/jpeg:https://cultura.guanajuato.gob.mx/wp-content/uploads/2025/08/Cartel-LSRV2H.jpg
END:VEVENT
BEGIN:VEVENT
DTSTART;TZID=America/Mexico_City:20251206T180000
DTEND;TZID=America/Mexico_City:20251206T200000
DTSTAMP:20260421T100920
CREATED:20251202T234428Z
LAST-MODIFIED:20251202T234428Z
UID:11865-1765044000-1765051200@cultura.guanajuato.gob.mx
SUMMARY:Retazos de memoria
DESCRIPTION:Retazos de Memoria es una pieza de formato corto inspirada en El Instinto de Inez de Carlos Fuentes en la que se intenta articular en el discurso coreográfico; fragmentación\, tránsito\, y umbrales simbólicos. \nPersonajes construidos desde la rememoración fragmentada\, lo que el recuerdo deja; gestos\, voces\, imágenes\, sensaciones…puro recuerdo concentrado; rostros umbrales\, jardines primordiales\, emociones\, viajeros que solo se detienen unos instantes. \nUna sucesión de apariciones nocturnas como presencias fantasmales. \nLa estructura: \nI\nEl umbral \nEl tránsito entre mundos \, tiempos\, identidades y estados de consciencia. \nII\nEn el jardín \nRemite a un espacio anterior al tiempo histórico\, un lugar donde todo inicia; el deseo\, la identidad\, la memoria y la imaginación creadora. \nIII\nEstación Nocturna \nUna Estación de tren en la noche no es un espacio de permanencia sino de paso de presencias fugaces. \nIV \nLa Ascensión de Marguerite \nLa memoria romántica del amor idealizado. \nEvento Con costo \nLugar: Teatro Cervantes\nCiudad: Guanajuato
URL:https://cultura.guanajuato.gob.mx/index.php/evento/retazos-de-memoria/
LOCATION:Teatro Cervantes\, Miguel Hidalgo 269\, Zona Centro\, Guanajuato\, Guanajuato\, 36000\, México
CATEGORIES:Danza
ATTACH;FMTTYPE=image/jpeg:https://cultura.guanajuato.gob.mx/wp-content/uploads/2025/08/Cartel-LSRV2H.jpg
END:VEVENT
BEGIN:VEVENT
DTSTART;TZID=America/Mexico_City:20251206T190000
DTEND;TZID=America/Mexico_City:20251206T210000
DTSTAMP:20260421T100920
CREATED:20251202T234427Z
LAST-MODIFIED:20251202T234427Z
UID:11864-1765047600-1765054800@cultura.guanajuato.gob.mx
SUMMARY:El Cascanueces
DESCRIPTION:Un clásico navideño del ballet universal que recrea\, durante la celebración de la Nochebuena\, un viaje a países maravillosos\, lleno de encanto y fantasía. En la fiesta de Navidad\, Clarita está lista para recibir a sus amigos cuando su padrino\, Drosselmeyer\, los sorprende con juguetes y trucos de magia\, entre los que destaca el regalo para Clarita: un precioso cascanueces que viste un elegante uniforme.\nUna gran producción de la prestigiosa compañía mexicana Ballet de Monterrey\, presentándose con niñas y niños provenientes de academias de danza clásica. Música de Piotr I. Tchaikovsky y coreografía de Luis Serrano basada sobre la original de Lev Ivanov\, con libreto de Marius Petipa. \nEvento Con costo \nLugar: Sala Principal del Teatro del Bicentenario Roberto Plasencia Saldaña\nCiudad: León
URL:https://cultura.guanajuato.gob.mx/index.php/evento/el-cascanueces-2/
LOCATION:Sala Principal del Teatro del Bicentenario Roberto Plasencia Saldaña\, Prol\, C. Calz. de los Héroes 908\, La Martinica\, León\, Guanajuato\, 37500
CATEGORIES:Danza
ATTACH;FMTTYPE=image/jpeg:https://cultura.guanajuato.gob.mx/wp-content/uploads/2025/08/Cartel-LSRV2H.jpg
END:VEVENT
BEGIN:VEVENT
DTSTART;TZID=America/Mexico_City:20251207T180000
DTEND;TZID=America/Mexico_City:20251207T200000
DTSTAMP:20260421T100920
CREATED:20251202T234444Z
LAST-MODIFIED:20251202T234444Z
UID:11872-1765130400-1765137600@cultura.guanajuato.gob.mx
SUMMARY:El Cascanueces
DESCRIPTION:Un clásico navideño del ballet universal que recrea\, durante la celebración de la Nochebuena\, un viaje a países maravillosos\, lleno de encanto y fantasía. En la fiesta de Navidad\, Clarita está lista para recibir a sus amigos cuando su padrino\, Drosselmeyer\, los sorprende con juguetes y trucos de magia\, entre los que destaca el regalo para Clarita: un precioso cascanueces que viste un elegante uniforme.\nUna gran producción de la prestigiosa compañía mexicana Ballet de Monterrey\, presentándose con niñas y niños provenientes de academias de danza clásica. Música de Piotr I. Tchaikovsky y coreografía de Luis Serrano basada sobre la original de Lev Ivanov\, con libreto de Marius Petipa. \nEvento Con costo \nLugar: Sala Principal del Teatro del Bicentenario Roberto Plasencia Saldaña\nCiudad: León
URL:https://cultura.guanajuato.gob.mx/index.php/evento/el-cascanueces-3/
LOCATION:Sala Principal del Teatro del Bicentenario Roberto Plasencia Saldaña\, Prol\, C. Calz. de los Héroes 908\, La Martinica\, León\, Guanajuato\, 37500
CATEGORIES:Danza
ATTACH;FMTTYPE=image/jpeg:https://cultura.guanajuato.gob.mx/wp-content/uploads/2025/08/Cartel-LSRV2H.jpg
END:VEVENT
BEGIN:VEVENT
DTSTART;TZID=America/Mexico_City:20251213T140000
DTEND;TZID=America/Mexico_City:20251221T160000
DTSTAMP:20260421T100920
CREATED:20251202T234627Z
LAST-MODIFIED:20251202T234627Z
UID:11904-1765634400-1766332800@cultura.guanajuato.gob.mx
SUMMARY:Petit Ballet Navideño
DESCRIPTION:PROGRAMA NAVIDEÑO\nPetit Ballet Navideño\nVivamos las fiestas navideñas con el Encuentro Estatal de Ballet Clásico de Guanajuato\, una celebración del arte\, técnica y pasión por la danza clásica. Participarán escuelas\, academias\, compañías y bailarines de todo el estado.\n12:00 horas\nSin costo\nMuseo de Arte e Historia de Guanajuato \nEvento Sin costo \nLugar: Museo de Arte e Historia de Guanajuato\nCiudad: León
URL:https://cultura.guanajuato.gob.mx/index.php/evento/petit-ballet-navideno/
LOCATION:Museo de Arte e Historia de Guanajuato\, Prol. C. Calz. de los Heroes 908\, La Martinica\, León\, Guanajuato\, 37500
CATEGORIES:Danza
ATTACH;FMTTYPE=image/jpeg:https://cultura.guanajuato.gob.mx/wp-content/uploads/2025/08/Cartel-LSRV2H.jpg
END:VEVENT
BEGIN:VEVENT
DTSTART;TZID=America/Mexico_City:20251214T140000
DTEND;TZID=America/Mexico_City:20251214T150000
DTSTAMP:20260421T100920
CREATED:20251202T234544Z
LAST-MODIFIED:20251202T234544Z
UID:11892-1765720800-1765724400@cultura.guanajuato.gob.mx
SUMMARY:Espacios Incidentales. Pisando fuerte… la huella del movimiento cotidiano
DESCRIPTION:ESPACIOS INCIDENTALES. “Pisando fuerte… la huella del movimiento cotidiano”\nInspirada en las obras del artista Bruno Tapia\, esta pieza coreográfica recoge la esencia de las escenas que él plasma en sus lienzos: la barbería\, la calle\, la fiesta del pueblo\, el bar.\nEsta coreografía es un homenaje al movimiento constante que nos habita\, a la belleza de lo simple y a la huella que deja cada gesto en el transcurrir de la vida.\nI.Motion Dance Studio\n14:00 H\nSin costo\nMuseo Hermenegildo Bustos \nEvento Sin costo \nLugar: Museo Hermenegildo Bustos\nCiudad: Purísima del Rincón
URL:https://cultura.guanajuato.gob.mx/index.php/evento/espacios-incidentales-pisando-fuerte-la-huella-del-movimiento-cotidiano/
LOCATION:Museo Hermenegildo Bustos\, Ppal. s/n\, Zona Centro\, Purísima de Bustos\, Guanajuato\, 36400\, México
CATEGORIES:Danza
ATTACH;FMTTYPE=image/jpeg:https://cultura.guanajuato.gob.mx/wp-content/uploads/2025/08/Cartel-LSRV2H.jpg
END:VEVENT
END:VCALENDAR