BEGIN:VCALENDAR
VERSION:2.0
PRODID:-//Cultura - ECPv6.15.20//NONSGML v1.0//EN
CALSCALE:GREGORIAN
METHOD:PUBLISH
X-ORIGINAL-URL:https://cultura.guanajuato.gob.mx
X-WR-CALDESC:Eventos para Cultura
REFRESH-INTERVAL;VALUE=DURATION:PT1H
X-Robots-Tag:noindex
X-PUBLISHED-TTL:PT1H
BEGIN:VTIMEZONE
TZID:America/Mexico_City
BEGIN:STANDARD
TZOFFSETFROM:-0600
TZOFFSETTO:-0600
TZNAME:CST
DTSTART:20240101T000000
END:STANDARD
END:VTIMEZONE
BEGIN:VEVENT
DTSTART;TZID=America/Mexico_City:20251024T160000
DTEND;TZID=America/Mexico_City:20251024T170000
DTSTAMP:20260421T190333
CREATED:20251007T003606Z
LAST-MODIFIED:20251008T001350Z
UID:11583-1761321600-1761325200@cultura.guanajuato.gob.mx
SUMMARY:Presentación del grupo Camaleón\, en homenaje al 26º del Museo José y Tomás Chávez Morado.
DESCRIPTION:Presentación del grupo Camaleón\, en homenaje al 26º del Museo José y Tomás Chávez Morado.\nCamaleón folklore del mundo. \nSábado 25 de Octubre\n16:00 hrs\nSin costo
URL:https://cultura.guanajuato.gob.mx/index.php/evento/presentacion-del-grupo-camaleon-en-homenaje-al-26o-del-museo-jose-y-tomas-chavez-morado/
LOCATION:Museo José y Tomás Chávez Morado\, General Vicente Guerrero 1\, Centro\, Silao\, Guanajuato\, 36100\, Mexico
CATEGORIES:Danza
ATTACH;FMTTYPE=image/jpeg:https://cultura.guanajuato.gob.mx/wp-content/uploads/2025/08/Cartel-LSRV2H.jpg
END:VEVENT
END:VCALENDAR