BEGIN:VCALENDAR
VERSION:2.0
PRODID:-//Cultura - ECPv6.15.20//NONSGML v1.0//EN
CALSCALE:GREGORIAN
METHOD:PUBLISH
X-WR-CALNAME:Cultura
X-ORIGINAL-URL:https://cultura.guanajuato.gob.mx
X-WR-CALDESC:Eventos para Cultura
REFRESH-INTERVAL;VALUE=DURATION:PT1H
X-Robots-Tag:noindex
X-PUBLISHED-TTL:PT1H
BEGIN:VTIMEZONE
TZID:America/Mexico_City
BEGIN:STANDARD
TZOFFSETFROM:-0600
TZOFFSETTO:-0600
TZNAME:CST
DTSTART:20240101T000000
END:STANDARD
END:VTIMEZONE
BEGIN:VEVENT
DTSTART;TZID=America/Mexico_City:20251203T160000
DTEND;TZID=America/Mexico_City:20251203T170000
DTSTAMP:20260422T112312
CREATED:20251202T234325Z
LAST-MODIFIED:20251202T234325Z
UID:11843-1764777600-1764781200@cultura.guanajuato.gob.mx
SUMMARY:La piñata en Navidad: un viaje por la historia y la alegría
DESCRIPTION:A través de un relato lleno de color y simbolismo\, niñas y niños descubrirán el origen de una de las tradiciones más alegres de México: la piñata. Inspirado en la historia de Stefan Czernecky y traducido por Alberto Ruy Sánchez. \nEvento Sin costo \nLugar: Biblioteca Dr. José María Luis Mora. Calle Mariano Arista #1 interior Comonfort\nCiudad: Comonfort
URL:https://cultura.guanajuato.gob.mx/index.php/evento/la-pinata-en-navidad-un-viaje-por-la-historia-y-la-alegria/
LOCATION:Guanajuato
CATEGORIES:Teatro infantil
ATTACH;FMTTYPE=image/jpeg:https://cultura.guanajuato.gob.mx/wp-content/uploads/2025/08/Cartel-LSRV2H.jpg
END:VEVENT
BEGIN:VEVENT
DTSTART;TZID=America/Mexico_City:20251203T170000
DTEND;TZID=America/Mexico_City:20251203T180000
DTSTAMP:20260422T112312
CREATED:20251202T234327Z
LAST-MODIFIED:20251202T234327Z
UID:11844-1764781200-1764784800@cultura.guanajuato.gob.mx
SUMMARY:Cantos al espíritu navideño
DESCRIPTION:Recital de una selección de poesía de San Juan de la Cruz y Juan Ramón Jiménez\, cuyos conceptos místicos\, claves en su escritura\, evocan profundamente la experiencia divina de la Navidad. \nEvento Sin costo \nLugar: Auditorio de la Casa de la Cultura Purísima del Rincón\nCiudad: Purísima del Rincón
URL:https://cultura.guanajuato.gob.mx/index.php/evento/cantos-al-espiritu-navideno/
LOCATION:Guanajuato
CATEGORIES:Música
ATTACH;FMTTYPE=image/jpeg:https://cultura.guanajuato.gob.mx/wp-content/uploads/2025/08/Cartel-LSRV2H.jpg
END:VEVENT
BEGIN:VEVENT
DTSTART;TZID=America/Mexico_City:20251204T120000
DTEND;TZID=America/Mexico_City:20251204T130000
DTSTAMP:20260422T112312
CREATED:20251202T234343Z
LAST-MODIFIED:20251202T234343Z
UID:11850-1764849600-1764853200@cultura.guanajuato.gob.mx
SUMMARY:Piñata de cuentos. Cuentos mexicanos de Navidad.
DESCRIPTION:En esta ocasión el Sr. Ranita nos llevará de la mano a través de hermosos cuentos sobre los elementos tan tradicionales de estas fiestas decembrinas. \nEvento Con costo \nLugar: Biblioteca Octavio Paz Huanímaro\nCiudad: Huanímaro
URL:https://cultura.guanajuato.gob.mx/index.php/evento/pinata-de-cuentos-cuentos-mexicanos-de-navidad/
LOCATION:Guanajuato
CATEGORIES:Teatro infantil
ATTACH;FMTTYPE=image/jpeg:https://cultura.guanajuato.gob.mx/wp-content/uploads/2025/08/Cartel-LSRV2H.jpg
END:VEVENT
BEGIN:VEVENT
DTSTART;TZID=America/Mexico_City:20251205T103000
DTEND;TZID=America/Mexico_City:20251205T120000
DTSTAMP:20260422T112312
CREATED:20251202T234359Z
LAST-MODIFIED:20251202T234359Z
UID:11857-1764930600-1764936000@cultura.guanajuato.gob.mx
SUMMARY:Taller La Estrella que brillaba más que todas
DESCRIPTION:Taller de ciencia en el que niñas y niños comprenden\, a través de la construcción de un caleidoscopio\, cómo la luz se refleja y forma patrones hermosos\, relacionándolo con la simbología de la Estrella de Belén y el brillo de las estrellas en el universo. \nEvento Sin costo \nLugar: Biblioteca Maguadán\, Prol. 1° de Mayo #1598 Acámbaro\nCiudad: Acámbaro
URL:https://cultura.guanajuato.gob.mx/index.php/evento/taller-la-estrella-que-brillaba-mas-que-todas/
LOCATION:Guanajuato
CATEGORIES:Talleres
ATTACH;FMTTYPE=image/jpeg:https://cultura.guanajuato.gob.mx/wp-content/uploads/2025/08/Cartel-LSRV2H.jpg
END:VEVENT
BEGIN:VEVENT
DTSTART;TZID=America/Mexico_City:20251205T110000
DTEND;TZID=America/Mexico_City:20251205T120000
DTSTAMP:20260422T112312
CREATED:20251202T234412Z
LAST-MODIFIED:20251202T234412Z
UID:11859-1764932400-1764936000@cultura.guanajuato.gob.mx
SUMMARY:Navidad con Casca y Cone
DESCRIPTION:Cone es amiga de Casca\, un extraterrestre que desconoce toda costumbre humana navideña. Juntos descubrirán cuál es la mejor forma de celebrar la Navidad… será ¿comprar muchos regalos\, hacer que todo brille o pasar tiempo con tu familia? Descubramos diferentes costumbres y cómo pasan la Navidad en otros lugares con Casca y Cone. \nEvento Sin costo \nLugar: Jardín Principal Valle de Santiago\nCiudad: Valle de Santiago
URL:https://cultura.guanajuato.gob.mx/index.php/evento/navidad-con-casca-y-cone/
LOCATION:Guanajuato
CATEGORIES:Teatro infantil
ATTACH;FMTTYPE=image/jpeg:https://cultura.guanajuato.gob.mx/wp-content/uploads/2025/08/Cartel-LSRV2H.jpg
END:VEVENT
BEGIN:VEVENT
DTSTART;TZID=America/Mexico_City:20251205T120000
DTEND;TZID=America/Mexico_City:20251205T130000
DTSTAMP:20260422T112312
CREATED:20251202T234400Z
LAST-MODIFIED:20251202T234400Z
UID:11858-1764936000-1764939600@cultura.guanajuato.gob.mx
SUMMARY:¿Cómo se conocieron los Reyes Magos?
DESCRIPTION:La leyenda cuenta de tres poderosos Reyes Magos que llevaban mirra\, incienso y oro al rey que iba a nacer\, pero… alguien sabe ¿por qué llegaron el seis de enero y no el veinticinco de diciembre?\, ¿cómo es que se conocieron entre ellos? o ¿de dónde venían?. Estas y muchas preguntas más son respondidas en este maravilloso relato. \nEvento Sin costo \nLugar: Jardín Cuauhtémoc\, frente a Presidencia Apaseo el Alto\nCiudad: Apaseo el Alto
URL:https://cultura.guanajuato.gob.mx/index.php/evento/como-se-conocieron-los-reyes-magos-2/
LOCATION:Guanajuato
CATEGORIES:Teatro infantil
ATTACH;FMTTYPE=image/jpeg:https://cultura.guanajuato.gob.mx/wp-content/uploads/2025/08/Cartel-LSRV2H.jpg
END:VEVENT
BEGIN:VEVENT
DTSTART;TZID=America/Mexico_City:20251205T123000
DTEND;TZID=America/Mexico_City:20251205T133000
DTSTAMP:20260422T112312
CREATED:20251202T234413Z
LAST-MODIFIED:20251202T234413Z
UID:11861-1764937800-1764941400@cultura.guanajuato.gob.mx
SUMMARY:¿Y la estrella?
DESCRIPTION:El ángel está en problemas. La estrella desapareció y tendrá que encontrarla antes de que los magos se pierdan en el desierto y así poder salvar la Navidad. \nEvento Sin costo \nLugar: Biblioteca de San Cristóbal San Francisco del Rincón\nCiudad: San Francisco del Rincón
URL:https://cultura.guanajuato.gob.mx/index.php/evento/y-la-estrella/
LOCATION:Guanajuato
CATEGORIES:Teatro infantil
ATTACH;FMTTYPE=image/jpeg:https://cultura.guanajuato.gob.mx/wp-content/uploads/2025/08/Cartel-LSRV2H.jpg
END:VEVENT
BEGIN:VEVENT
DTSTART;TZID=America/Mexico_City:20251207T153000
DTEND;TZID=America/Mexico_City:20251207T200000
DTSTAMP:20260422T112312
CREATED:20251202T234457Z
LAST-MODIFIED:20251202T234457Z
UID:11874-1765121400-1765137600@cultura.guanajuato.gob.mx
SUMMARY:XXII Concurso Muestra Venta El Cacahuate\, el Camote y el Garbanzo de la Cocina Guanajuatense
DESCRIPTION:Concurso anual tradicional \nEvento Sin costo \nLugar: Plaza principal de Tarimoro\nCiudad: Tarimoro
URL:https://cultura.guanajuato.gob.mx/index.php/evento/xxii-concurso-muestra-venta-el-cacahuate-el-camote-y-el-garbanzo-de-la-cocina-guanajuatense/
LOCATION:Guanajuato
CATEGORIES:Exposiciones
ATTACH;FMTTYPE=image/jpeg:https://cultura.guanajuato.gob.mx/wp-content/uploads/2025/08/Cartel-LSRV2H.jpg
END:VEVENT
BEGIN:VEVENT
DTSTART;TZID=America/Mexico_City:20251209T110000
DTEND;TZID=America/Mexico_City:20251209T120000
DTSTAMP:20260422T112312
CREATED:20251202T234458Z
LAST-MODIFIED:20251202T234458Z
UID:11876-1765278000-1765281600@cultura.guanajuato.gob.mx
SUMMARY:Cuento de Navidad
DESCRIPTION:Una emotiva adaptación del célebre cuento de Charles Dickens\, que nos invita a vivir la magia de la Navidad a través de esta entrañable historia\, llena de valores y reflexión para toda la familia. \nEvento Sin costo \nLugar: Plaza Principal Tierra Blanca\nCiudad: Tierra Blanca
URL:https://cultura.guanajuato.gob.mx/index.php/evento/cuento-de-navidad/
LOCATION:Guanajuato
CATEGORIES:Teatro infantil
ATTACH;FMTTYPE=image/jpeg:https://cultura.guanajuato.gob.mx/wp-content/uploads/2025/08/Cartel-LSRV2H.jpg
END:VEVENT
BEGIN:VEVENT
DTSTART;TZID=America/Mexico_City:20251209T150000
DTEND;TZID=America/Mexico_City:20251209T160000
DTSTAMP:20260422T112312
CREATED:20251202T234459Z
LAST-MODIFIED:20251202T234459Z
UID:11877-1765292400-1765296000@cultura.guanajuato.gob.mx
SUMMARY:Cuento de Navidad
DESCRIPTION:Una emotiva adaptación del célebre cuento de Charles Dickens\, que nos invita a vivir la magia de la Navidad a través de esta entrañable historia\, llena de valores y reflexión para toda la familia. \nEvento Sin costo \nLugar: Biblioteca de la Casa de la Cultura Xichú\nCiudad: Xichú
URL:https://cultura.guanajuato.gob.mx/index.php/evento/cuento-de-navidad-2/
LOCATION:Guanajuato
CATEGORIES:Teatro infantil
ATTACH;FMTTYPE=image/jpeg:https://cultura.guanajuato.gob.mx/wp-content/uploads/2025/08/Cartel-LSRV2H.jpg
END:VEVENT
BEGIN:VEVENT
DTSTART;TZID=America/Mexico_City:20251210T100000
DTEND;TZID=America/Mexico_City:20251210T110000
DTSTAMP:20260422T112312
CREATED:20251202T234515Z
LAST-MODIFIED:20251202T234515Z
UID:11883-1765360800-1765364400@cultura.guanajuato.gob.mx
SUMMARY:Navidad con Casca y Cone
DESCRIPTION:Cone es amiga de Casca\, un extraterrestre que desconoce toda costumbre humana navideña. Juntos descubrirán cuál es la mejor forma de celebrar la Navidad… será ¿comprar muchos regalos\, hacer que todo brille o pasar tiempo con tu familia? Descubramos diferentes costumbres y cómo pasan la Navidad en otros lugares con Casca y Cone. \nEvento Sin costo \nLugar: Biblioteca Esperanza Sambrano Dolores Hidalgo\nCiudad: Dolores Hidalgo
URL:https://cultura.guanajuato.gob.mx/index.php/evento/navidad-con-casca-y-cone-2/
LOCATION:Guanajuato
CATEGORIES:Teatro infantil
END:VEVENT
BEGIN:VEVENT
DTSTART;TZID=America/Mexico_City:20251210T160000
DTEND;TZID=America/Mexico_City:20251210T170000
DTSTAMP:20260422T112312
CREATED:20251202T234527Z
LAST-MODIFIED:20251202T234527Z
UID:11884-1765382400-1765386000@cultura.guanajuato.gob.mx
SUMMARY:Cantos al espíritu navideño
DESCRIPTION:Recital de una selección de poesía de San Juan de la Cruz y Juan Ramón Jiménez\, cuyos conceptos místicos\, claves en su escritura\, evocan profundamente la experiencia divina de la Navidad. \nEvento Sin costo \nLugar: Biblioteca Carmen Serdán. San Luis de la Paz\nCiudad: San Luis de la Paz
URL:https://cultura.guanajuato.gob.mx/index.php/evento/cantos-al-espiritu-navideno-2/
LOCATION:Guanajuato
CATEGORIES:Música
ATTACH;FMTTYPE=image/jpeg:https://cultura.guanajuato.gob.mx/wp-content/uploads/2025/08/Cartel-LSRV2H.jpg
END:VEVENT
BEGIN:VEVENT
DTSTART;TZID=America/Mexico_City:20251211T130000
DTEND;TZID=America/Mexico_City:20251211T140000
DTSTAMP:20260422T112312
CREATED:20251202T234528Z
LAST-MODIFIED:20251202T234528Z
UID:11886-1765458000-1765461600@cultura.guanajuato.gob.mx
SUMMARY:¿Y la estrella?
DESCRIPTION:El ángel está en problemas. La estrella desapareció y tendrá que encontrarla antes de que los magos se pierdan en el desierto y así poder salvar la Navidad. \nEvento Sin costo \nLugar: Biblioteca María del Carmen Hernández Garavito. Juventino Rosas\nCiudad: Juventino Rosas
URL:https://cultura.guanajuato.gob.mx/index.php/evento/y-la-estrella-2/
LOCATION:Guanajuato
CATEGORIES:Teatro infantil
ATTACH;FMTTYPE=image/jpeg:https://cultura.guanajuato.gob.mx/wp-content/uploads/2025/08/Cartel-LSRV2H.jpg
END:VEVENT
BEGIN:VEVENT
DTSTART;TZID=America/Mexico_City:20251211T150000
DTEND;TZID=America/Mexico_City:20251211T160000
DTSTAMP:20260422T112312
CREATED:20251202T234529Z
LAST-MODIFIED:20251202T234529Z
UID:11887-1765465200-1765468800@cultura.guanajuato.gob.mx
SUMMARY:Piñata de cuentos. Cuentos mexicanos de Navidad.
DESCRIPTION:En esta ocasión el Sr. Ranita nos llevará de la mano a través de hermosos cuentos sobre los elementos tan tradicionales de estas fiestas decembrinas. \nEvento Sin costo \nLugar: Explanada Francisco Javier Mina San Diego de la Unión\nCiudad: San Diego de la Unión
URL:https://cultura.guanajuato.gob.mx/index.php/evento/pinata-de-cuentos-cuentos-mexicanos-de-navidad-2/
LOCATION:Guanajuato
CATEGORIES:Teatro infantil
ATTACH;FMTTYPE=image/jpeg:https://cultura.guanajuato.gob.mx/wp-content/uploads/2025/08/Cartel-LSRV2H.jpg
END:VEVENT
BEGIN:VEVENT
DTSTART;TZID=America/Mexico_City:20251211T160000
DTEND;TZID=America/Mexico_City:20251211T173000
DTSTAMP:20260422T112312
CREATED:20251202T234528Z
LAST-MODIFIED:20251202T234528Z
UID:11885-1765468800-1765474200@cultura.guanajuato.gob.mx
SUMMARY:Taller La Estrella que brillaba más que todas
DESCRIPTION:Taller de ciencia en el que niñas y niños comprenden\, a través de la construcción de un caleidoscopio\, cómo la luz se refleja y forma patrones hermosos\, relacionándolo con la simbología de la Estrella de Belén y el brillo de las estrellas en el universo. \nEvento Sin costo \nLugar: Biblioteca Antonio Plaza. José María Morelos #308 Apaseo el Grande\nCiudad: Apaseo el Grande
URL:https://cultura.guanajuato.gob.mx/index.php/evento/taller-la-estrella-que-brillaba-mas-que-todas-2/
LOCATION:Guanajuato
CATEGORIES:Talleres
ATTACH;FMTTYPE=image/jpeg:https://cultura.guanajuato.gob.mx/wp-content/uploads/2025/08/Cartel-LSRV2H.jpg
END:VEVENT
BEGIN:VEVENT
DTSTART;TZID=America/Mexico_City:20251214T140000
DTEND;TZID=America/Mexico_City:20251214T150000
DTSTAMP:20260422T112312
CREATED:20251202T234544Z
LAST-MODIFIED:20251202T234544Z
UID:11892-1765720800-1765724400@cultura.guanajuato.gob.mx
SUMMARY:Espacios Incidentales. Pisando fuerte… la huella del movimiento cotidiano
DESCRIPTION:ESPACIOS INCIDENTALES. “Pisando fuerte… la huella del movimiento cotidiano”\nInspirada en las obras del artista Bruno Tapia\, esta pieza coreográfica recoge la esencia de las escenas que él plasma en sus lienzos: la barbería\, la calle\, la fiesta del pueblo\, el bar.\nEsta coreografía es un homenaje al movimiento constante que nos habita\, a la belleza de lo simple y a la huella que deja cada gesto en el transcurrir de la vida.\nI.Motion Dance Studio\n14:00 H\nSin costo\nMuseo Hermenegildo Bustos \nEvento Sin costo \nLugar: Museo Hermenegildo Bustos\nCiudad: Purísima del Rincón
URL:https://cultura.guanajuato.gob.mx/index.php/evento/espacios-incidentales-pisando-fuerte-la-huella-del-movimiento-cotidiano/
LOCATION:Museo Hermenegildo Bustos\, Ppal. s/n\, Zona Centro\, Purísima de Bustos\, Guanajuato\, 36400\, México
CATEGORIES:Danza
ATTACH;FMTTYPE=image/jpeg:https://cultura.guanajuato.gob.mx/wp-content/uploads/2025/08/Cartel-LSRV2H.jpg
END:VEVENT
END:VCALENDAR