BEGIN:VCALENDAR
VERSION:2.0
PRODID:-//Cultura - ECPv6.15.20//NONSGML v1.0//EN
CALSCALE:GREGORIAN
METHOD:PUBLISH
X-WR-CALNAME:Cultura
X-ORIGINAL-URL:https://cultura.guanajuato.gob.mx
X-WR-CALDESC:Eventos para Cultura
REFRESH-INTERVAL;VALUE=DURATION:PT1H
X-Robots-Tag:noindex
X-PUBLISHED-TTL:PT1H
BEGIN:VTIMEZONE
TZID:America/Mexico_City
BEGIN:STANDARD
TZOFFSETFROM:-0600
TZOFFSETTO:-0600
TZNAME:CST
DTSTART:20240101T000000
END:STANDARD
END:VTIMEZONE
BEGIN:VEVENT
DTSTART;TZID=America/Mexico_City:20250729T110000
DTEND;TZID=America/Mexico_City:20250729T130000
DTSTAMP:20260422T185241
CREATED:20250701T214618Z
LAST-MODIFIED:20250701T214834Z
UID:10277-1753786800-1753794000@cultura.guanajuato.gob.mx
SUMMARY:Taller de cómic “La máquina del tiempo”
DESCRIPTION:Aprende a realizar un cómic con distintas técnicas y estilos de dibujo\, para crear una historia única.
URL:https://cultura.guanajuato.gob.mx/index.php/evento/taller-de-comic-la-maquina-del-tiempo2/
LOCATION:Guanajuato
CATEGORIES:Talleres
ATTACH;FMTTYPE=image/png:https://cultura.guanajuato.gob.mx/wp-content/uploads/2025/07/Cartel-95-5Q40dj.png
END:VEVENT
END:VCALENDAR