BEGIN:VCALENDAR
VERSION:2.0
PRODID:-//Cultura - ECPv6.15.20//NONSGML v1.0//EN
CALSCALE:GREGORIAN
METHOD:PUBLISH
X-WR-CALNAME:Cultura
X-ORIGINAL-URL:https://cultura.guanajuato.gob.mx
X-WR-CALDESC:Eventos para Cultura
REFRESH-INTERVAL;VALUE=DURATION:PT1H
X-Robots-Tag:noindex
X-PUBLISHED-TTL:PT1H
BEGIN:VTIMEZONE
TZID:America/Mexico_City
BEGIN:STANDARD
TZOFFSETFROM:-0600
TZOFFSETTO:-0600
TZNAME:CST
DTSTART:20240101T000000
END:STANDARD
END:VTIMEZONE
BEGIN:VTIMEZONE
TZID:UTC
BEGIN:STANDARD
TZOFFSETFROM:+0000
TZOFFSETTO:+0000
TZNAME:UTC
DTSTART:20240101T000000
END:STANDARD
END:VTIMEZONE
BEGIN:VEVENT
DTSTART;TZID=America/Mexico_City:20250808T100000
DTEND;TZID=America/Mexico_City:20250808T110000
DTSTAMP:20260422T201845
CREATED:20250728T204514Z
LAST-MODIFIED:20250801T173519Z
UID:10808-1754647200-1754650800@cultura.guanajuato.gob.mx
SUMMARY:Cuentacuentos Haciendo los sueños realidad
DESCRIPTION:Aquí la redacción también es rara. Yo propondría: Esta maravillosa historia cuenta la vida de un niño de apenas ocho años que tuvo un sueño y que\, gracias al tiempo\, al esfuerzo y a la claridad de su objetivo\, logrará convertirlo en realidad. \nBiblioteca Agustín González de Cossío Av. Guanajuato # 10\nZona centro\nDoctor Mora\nSin costo
URL:https://cultura.guanajuato.gob.mx/index.php/evento/cuentacuentos-haciendo-los-suenos-realidad/
LOCATION:Guanajuato
CATEGORIES:Teatro infantil
ATTACH;FMTTYPE=image/jpeg:https://cultura.guanajuato.gob.mx/wp-content/uploads/2025/07/Cartel-19-TajpJ7.jpg
END:VEVENT
BEGIN:VEVENT
DTSTART;TZID=America/Mexico_City:20250808T130000
DTEND;TZID=America/Mexico_City:20250808T140000
DTSTAMP:20260422T201845
CREATED:20250728T204515Z
LAST-MODIFIED:20250728T204515Z
UID:10810-1754658000-1754661600@cultura.guanajuato.gob.mx
SUMMARY:Teatro de títeres Casca\, Cone y el misterio de la zanahoria
DESCRIPTION:La coneja es amiga de todos e invita a su granja a su amigo extraterrestre Casca\, el cual está aprendiendo sobre la vida en nuestro planeta. Cuando la zanahoria crece y todos están muy felices\, la zanahoria desaparece. \nAuditorio de la Casa de la Cultura\nJaral del Progreso\nSin costo
URL:https://cultura.guanajuato.gob.mx/index.php/evento/teatro-de-titeres-casca-cone-y-el-misterio-de-la-zanahoria/
LOCATION:Guanajuato
CATEGORIES:Teatro infantil
ATTACH;FMTTYPE=image/jpeg:https://cultura.guanajuato.gob.mx/wp-content/uploads/2025/07/Cartel-20-LmiQHV.jpg
END:VEVENT
BEGIN:VEVENT
DTSTART;TZID=America/Mexico_City:20250808T130000
DTEND;TZID=America/Mexico_City:20250808T140000
DTSTAMP:20260422T201845
CREATED:20250728T210301Z
LAST-MODIFIED:20250801T173707Z
UID:10822-1754658000-1754661600@cultura.guanajuato.gob.mx
SUMMARY:Teatro de títeres Atrapados entre títeres
DESCRIPTION:Dos presos descubren una bolsa mágica que revive personajes olvidados de la prisión. En lugar de escapar\, se ven envueltos en una celebración caótica con títeres y magia. La historia transforma la fuga en un espectáculo hipnótico que atrapa tanto a protagonistas como a espectadores. \nBiblioteca Margarita Gómez de Parada\nPrincipal del Cardón #2\nPuruagua\, Jerécuaro\nSin costo
URL:https://cultura.guanajuato.gob.mx/index.php/evento/teatro-de-titeres-atrapados-entre-titeres-2/
LOCATION:Guanajuato
CATEGORIES:Teatro infantil
ATTACH;FMTTYPE=image/jpeg:https://cultura.guanajuato.gob.mx/wp-content/uploads/2025/07/Cartel-21-MalnF3.jpg
END:VEVENT
BEGIN:VEVENT
DTSTART;TZID=America/Mexico_City:20250808T150000
DTEND;TZID=America/Mexico_City:20250808T170000
DTSTAMP:20260422T201845
CREATED:20250728T210304Z
LAST-MODIFIED:20250728T210304Z
UID:10825-1754665200-1754672400@cultura.guanajuato.gob.mx
SUMMARY:Taller de cómic La máquina del tiempo
DESCRIPTION:Aprende a realizar un cómic con distintas técnicas y estilos de dibujo\, para crear una historia única. \nBiblioteca Justo Sierra\nCalle E. Carranza #30\nValle de Santiago\nSin costo
URL:https://cultura.guanajuato.gob.mx/index.php/evento/taller-de-comic-la-maquina-del-tiempo-2/
LOCATION:Guanajuato
CATEGORIES:Talleres
ATTACH;FMTTYPE=image/jpeg:https://cultura.guanajuato.gob.mx/wp-content/uploads/2025/07/Cartel-23-Stvy40.jpg
END:VEVENT
BEGIN:VEVENT
DTSTART;TZID=America/Mexico_City:20250808T160000
DTEND;TZID=America/Mexico_City:20250808T180000
DTSTAMP:20260422T201845
CREATED:20250728T210302Z
LAST-MODIFIED:20250728T210302Z
UID:10824-1754668800-1754676000@cultura.guanajuato.gob.mx
SUMMARY:Taller de cómic La máquina del tiempo
DESCRIPTION:Aprende a realizar un cómic con distintas técnicas y estilos de dibujo\, para crear una historia única. \nBiblioteca Lic. Rafael Corrales Ayala\nMorelos s/n\nRomita\nSin costo
URL:https://cultura.guanajuato.gob.mx/index.php/evento/taller-de-comic-la-maquina-del-tiempo/
LOCATION:Guanajuato
CATEGORIES:Talleres
END:VEVENT
BEGIN:VEVENT
DTSTART;TZID=UTC:20250808T180000
DTEND;TZID=UTC:20250808T190000
DTSTAMP:20260422T201845
CREATED:20250806T171854Z
LAST-MODIFIED:20250806T172001Z
UID:11097-1754676000-1754679600@cultura.guanajuato.gob.mx
SUMMARY:Orquesta de La Salle Bajío - Programa del Octavo Aniversario - Museo Hermenegildo Bustos
DESCRIPTION:Programa del Octavo Aniversario – Museo Hermenegildo Bustos \n08 DE AGOSTO\nOrquesta de La Salle Bajío\n18:00 h\nSin costo
URL:https://cultura.guanajuato.gob.mx/index.php/evento/orquesta-de-la-salle-bajio-programa-del-octavio-aniversario-museo-hermenegildo-bustos/
LOCATION:Museo Hermenegildo Bustos\, Ppal. s/n\, Zona Centro\, Purísima de Bustos\, Guanajuato\, 36400\, México
ATTACH;FMTTYPE=image/jpeg:https://cultura.guanajuato.gob.mx/wp-content/uploads/2025/08/MUSEOS-Cuadro-Julio25-8Aniversario-2.jpg
END:VEVENT
END:VCALENDAR