BEGIN:VCALENDAR
VERSION:2.0
PRODID:-//Cultura - ECPv6.15.20//NONSGML v1.0//EN
CALSCALE:GREGORIAN
METHOD:PUBLISH
X-ORIGINAL-URL:https://cultura.guanajuato.gob.mx
X-WR-CALDESC:Eventos para Cultura
REFRESH-INTERVAL;VALUE=DURATION:PT1H
X-Robots-Tag:noindex
X-PUBLISHED-TTL:PT1H
BEGIN:VTIMEZONE
TZID:America/Mexico_City
BEGIN:STANDARD
TZOFFSETFROM:-0600
TZOFFSETTO:-0600
TZNAME:CST
DTSTART:20240101T000000
END:STANDARD
END:VTIMEZONE
BEGIN:VEVENT
DTSTART;TZID=America/Mexico_City:20250824T120000
DTEND;TZID=America/Mexico_City:20250824T130000
DTSTAMP:20260422T185521
CREATED:20250728T214809Z
LAST-MODIFIED:20250728T214809Z
UID:10939-1756036800-1756040400@cultura.guanajuato.gob.mx
SUMMARY:Taller familiar. Tejiendo Escenarios
DESCRIPTION:Taller familiar. Tejiendo Escenarios\nConoce la exposición temporal “Tradiciones que viven” inspírate en ella y con tu familia podrás realizar un retrato o paisaje con cartón y estambre\, te recomendamos traer una fotografía o paisaje. \n24 de agosto\n12:00 horas\nSin costo\nMuseo Hermenegildo Bustos
URL:https://cultura.guanajuato.gob.mx/index.php/evento/taller-familiar-tejiendo-escenarios/
LOCATION:Museo Hermenegildo Bustos\, Ppal. s/n\, Zona Centro\, Purísima de Bustos\, Guanajuato\, 36400\, México
CATEGORIES:Talleres
ATTACH;FMTTYPE=image/jpeg:https://cultura.guanajuato.gob.mx/wp-content/uploads/2025/07/Cartel-73-hsbLxD.jpg
END:VEVENT
END:VCALENDAR