BEGIN:VCALENDAR
VERSION:2.0
PRODID:-//Cultura - ECPv6.15.20//NONSGML v1.0//EN
CALSCALE:GREGORIAN
METHOD:PUBLISH
X-WR-CALNAME:Cultura
X-ORIGINAL-URL:https://cultura.guanajuato.gob.mx
X-WR-CALDESC:Eventos para Cultura
REFRESH-INTERVAL;VALUE=DURATION:PT1H
X-Robots-Tag:noindex
X-PUBLISHED-TTL:PT1H
BEGIN:VTIMEZONE
TZID:America/Mexico_City
BEGIN:STANDARD
TZOFFSETFROM:-0600
TZOFFSETTO:-0600
TZNAME:CST
DTSTART:20240101T000000
END:STANDARD
END:VTIMEZONE
BEGIN:VEVENT
DTSTART;TZID=America/Mexico_City:20250905T113000
DTEND;TZID=America/Mexico_City:20250905T180000
DTSTAMP:20260422T172112
CREATED:20250830T000146Z
LAST-MODIFIED:20250903T224018Z
UID:11269-1757071800-1757095200@cultura.guanajuato.gob.mx
SUMMARY:Ilustradores de Cómic: La Máquina del Tiempo
DESCRIPTION:Una muestra vibrante de talento joven que viaja entre épocas y estilos. Las juventudes creadoras de Cortazar\, León\, Romita\, Salamanca\, San Cristóbal\, Silao y Valle de Santiago presentan sus obras gráficas\, explorando el cómic como vehículo de memoria\, imaginación y futuro. \nEvento Sin costo
URL:https://cultura.guanajuato.gob.mx/index.php/evento/ilustradores-de-comic-la-maquina-del-tiempo/
LOCATION:Biblioteca Central Estatal\, Prol. C. Calz. de los Héroes 908\, La Martinica\, León\, Guanajuato\, 37500
CATEGORIES:Exposiciones
ATTACH;FMTTYPE=image/jpeg:https://cultura.guanajuato.gob.mx/wp-content/uploads/2025/08/Banner-15.jpg
END:VEVENT
END:VCALENDAR