BEGIN:VCALENDAR
VERSION:2.0
PRODID:-//Cultura - ECPv6.15.20//NONSGML v1.0//EN
CALSCALE:GREGORIAN
METHOD:PUBLISH
X-WR-CALNAME:Cultura
X-ORIGINAL-URL:https://cultura.guanajuato.gob.mx
X-WR-CALDESC:Eventos para Cultura
REFRESH-INTERVAL;VALUE=DURATION:PT1H
X-Robots-Tag:noindex
X-PUBLISHED-TTL:PT1H
BEGIN:VTIMEZONE
TZID:America/Mexico_City
BEGIN:STANDARD
TZOFFSETFROM:-0600
TZOFFSETTO:-0600
TZNAME:CST
DTSTART:20240101T000000
END:STANDARD
END:VTIMEZONE
BEGIN:VEVENT
DTSTART;TZID=America/Mexico_City:20250906T110000
DTEND;TZID=America/Mexico_City:20250906T170000
DTSTAMP:20260422T185358
CREATED:20250830T003004Z
LAST-MODIFIED:20250830T003004Z
UID:11283-1757156400-1757178000@cultura.guanajuato.gob.mx
SUMMARY:3er Encuentro de Arte JalpArt
DESCRIPTION:El 3er Encuentro de Arte en Jalpa de Cánovas se realizará el sábado 6 de septiembre de las 13:00 a las 17:00 horas en el Centro Histórico del Pueblo Mágico. Organizado por el Taller de Arte de Jalpa (JALPART)\, reunirá a artistas emergentes locales y a más de 60 creadores de renombre nacional e internacional. JALPART nació hace más de tres años con el propósito de apoyar el talento infantil y hoy incluye a toda la comunidad. El encuentro busca acercar el arte a Jalpa mediante exhibiciones\, talleres de grabado\, un tianguis artesanal y un convivio en la Ex-Hacienda de Jalpa de Cánovas. Dentro de las actividades\, se realizará una exposición de artes visuales con permanencia al viernes 24 de octubre de 2025. \nEvento Sin costo
URL:https://cultura.guanajuato.gob.mx/index.php/evento/3er-encuentro-de-arte-jalpart/
LOCATION:Guanajuato
CATEGORIES:Interdisciplina
ATTACH;FMTTYPE=image/jpeg:https://cultura.guanajuato.gob.mx/wp-content/uploads/2025/08/Cartel-LSRV2H.jpg
END:VEVENT
BEGIN:VEVENT
DTSTART;TZID=America/Mexico_City:20250906T120000
DTEND;TZID=America/Mexico_City:20250906T140000
DTSTAMP:20260422T185358
CREATED:20250830T224032Z
LAST-MODIFIED:20250903T214738Z
UID:11290-1757160000-1757167200@cultura.guanajuato.gob.mx
SUMMARY:Pequeños héroes y heroínas Taller infantil
DESCRIPTION:¡Pequeños héroes y heroínas\, la sociedad necesita su ayuda! inscríbete y asiste a este divertido taller donde podrás crear tu propia máscara de superhéroe o superheroína para salvar al mundo\, inspirado en causas benéficas para la sociedad\, como: el cuidado del agua\, la conservación de las especies en peligro de extinción o cualquier otra relacionada\, la misión está por comenzar y tú puedes cambiar el rumbo de nuestro futuro. \nEvento Sin costo
URL:https://cultura.guanajuato.gob.mx/index.php/evento/pequenos-heroes-y-heroinas-taller-infantil/
LOCATION:Biblioteca Central Estatal\, Prol. C. Calz. de los Héroes 908\, La Martinica\, León\, Guanajuato\, 37500
CATEGORIES:Talleres
ATTACH;FMTTYPE=image/jpeg:https://cultura.guanajuato.gob.mx/wp-content/uploads/2025/08/Banner-1-e1756936044379.jpg
END:VEVENT
BEGIN:VEVENT
DTSTART;TZID=America/Mexico_City:20250906T190000
DTEND;TZID=America/Mexico_City:20250906T200000
DTSTAMP:20260422T185358
CREATED:20250830T224038Z
LAST-MODIFIED:20250830T224038Z
UID:11297-1757185200-1757188800@cultura.guanajuato.gob.mx
SUMMARY:Recital de Guitarra
DESCRIPTION:Recital de Guitarra\nEdgar Ramírez\nPlaza Cívica Dr. Mora \nHora: 7 pm\nEvento Sin Costo
URL:https://cultura.guanajuato.gob.mx/index.php/evento/recital-de-guitarra/
LOCATION:Guanajuato
CATEGORIES:Música
ATTACH;FMTTYPE=image/jpeg:https://cultura.guanajuato.gob.mx/wp-content/uploads/2025/08/Cartel-LSRV2H.jpg
END:VEVENT
END:VCALENDAR