BEGIN:VCALENDAR
VERSION:2.0
PRODID:-//Cultura - ECPv6.15.20//NONSGML v1.0//EN
CALSCALE:GREGORIAN
METHOD:PUBLISH
X-WR-CALNAME:Cultura
X-ORIGINAL-URL:https://cultura.guanajuato.gob.mx
X-WR-CALDESC:Eventos para Cultura
REFRESH-INTERVAL;VALUE=DURATION:PT1H
X-Robots-Tag:noindex
X-PUBLISHED-TTL:PT1H
BEGIN:VTIMEZONE
TZID:America/Mexico_City
BEGIN:STANDARD
TZOFFSETFROM:-0600
TZOFFSETTO:-0600
TZNAME:CST
DTSTART:20240101T000000
END:STANDARD
END:VTIMEZONE
BEGIN:VEVENT
DTSTART;TZID=America/Mexico_City:20250926T163000
DTEND;TZID=America/Mexico_City:20250926T180000
DTSTAMP:20260422T185410
CREATED:20250831T002725Z
LAST-MODIFIED:20250831T002725Z
UID:11359-1758904200-1758909600@cultura.guanajuato.gob.mx
SUMMARY:Arte de mí y para mí. Taller de arte como una herramienta de introspección y exploración emocional.
DESCRIPTION:¿El arte es sobre lo que me rodea o puede ser sobre lo que hay dentro de mí? En este taller aprenderás a utilizar el arte como una herramienta de introspección y exploración emocional. Plasmar cómo nos sentimos y cómo percibimos el mundo a través de texturas\, colores y demás es una experiencia completamente personal y aquí ¡Todo es válido!  \nEvento Sin costo
URL:https://cultura.guanajuato.gob.mx/index.php/evento/arte-de-mi-y-para-mi-taller-de-arte-como-una-herramienta-de-introspeccion-y-exploracion-emocional/
LOCATION:Biblioteca Central Estatal\, Prol. C. Calz. de los Héroes 908\, La Martinica\, León\, Guanajuato\, 37500
CATEGORIES:Talleres
ATTACH;FMTTYPE=image/jpeg:https://cultura.guanajuato.gob.mx/wp-content/uploads/2025/08/Cartel-LSRV2H.jpg
END:VEVENT
END:VCALENDAR