BEGIN:VCALENDAR
VERSION:2.0
PRODID:-//Cultura - ECPv6.15.20//NONSGML v1.0//EN
CALSCALE:GREGORIAN
METHOD:PUBLISH
X-ORIGINAL-URL:https://cultura.guanajuato.gob.mx
X-WR-CALDESC:Eventos para Cultura
REFRESH-INTERVAL;VALUE=DURATION:PT1H
X-Robots-Tag:noindex
X-PUBLISHED-TTL:PT1H
BEGIN:VTIMEZONE
TZID:America/Mexico_City
BEGIN:STANDARD
TZOFFSETFROM:-0600
TZOFFSETTO:-0600
TZNAME:CST
DTSTART:20240101T000000
END:STANDARD
END:VTIMEZONE
BEGIN:VEVENT
DTSTART;TZID=America/Mexico_City:20251019T100000
DTEND;TZID=America/Mexico_City:20251019T140000
DTSTAMP:20260422T155406
CREATED:20251007T003423Z
LAST-MODIFIED:20251008T001205Z
UID:11551-1760868000-1760882400@cultura.guanajuato.gob.mx
SUMMARY:Ilumina tu ciudad
DESCRIPTION:Ilumina tu ciudad \nTe invitamos a realizar tu propia lechuga\,  (faroles de papel de china)  en el marco de las tradicionales iluminaciones de los pueblos del Rincón\, muestra  cultural de estas regiones. \n10:00 h – 14:00 h\nSin costo\nMuseo Hermenegildo Bustos
URL:https://cultura.guanajuato.gob.mx/index.php/evento/ilumina-tu-ciudad/
LOCATION:Museo Hermenegildo Bustos\, Ppal. s/n\, Zona Centro\, Purísima de Bustos\, Guanajuato\, 36400\, México
CATEGORIES:Talleres
ATTACH;FMTTYPE=image/jpeg:https://cultura.guanajuato.gob.mx/wp-content/uploads/2025/08/Cartel-LSRV2H.jpg
END:VEVENT
END:VCALENDAR