BEGIN:VCALENDAR
VERSION:2.0
PRODID:-//Cultura - ECPv6.15.20//NONSGML v1.0//EN
CALSCALE:GREGORIAN
METHOD:PUBLISH
X-WR-CALNAME:Cultura
X-ORIGINAL-URL:https://cultura.guanajuato.gob.mx
X-WR-CALDESC:Eventos para Cultura
REFRESH-INTERVAL;VALUE=DURATION:PT1H
X-Robots-Tag:noindex
X-PUBLISHED-TTL:PT1H
BEGIN:VTIMEZONE
TZID:America/Mexico_City
BEGIN:STANDARD
TZOFFSETFROM:-0600
TZOFFSETTO:-0600
TZNAME:CST
DTSTART:20240101T000000
END:STANDARD
END:VTIMEZONE
BEGIN:VEVENT
DTSTART;TZID=America/Mexico_City:20251121T170000
DTEND;TZID=America/Mexico_City:20251121T200000
DTSTAMP:20260422T142008
CREATED:20251007T004335Z
LAST-MODIFIED:20251008T001549Z
UID:11623-1763744400-1763755200@cultura.guanajuato.gob.mx
SUMMARY:Concierto de premiación de la convocatoria AIEC: Estimulo a la creación de música para Orquesta Infantil 2025
DESCRIPTION:Presentación de 10 obras seleccionadas de la convocatoria Estímulos a la creación de música para Orquesta Infantil 2025\, cuyo objetivo es incentivar la creación musical dentro del ámbito de las Orquestas Sinfónicas para niñas y niños a través una convocatoria de estímulos para el desarrollo de programaciones de concierto con obras inéditas dirigidas a la niñez que conforman las agrupaciones musicales del estado.
URL:https://cultura.guanajuato.gob.mx/index.php/evento/concierto-de-premiacion-de-la-convocatoria-aiec-estimulo-a-la-creacion-de-musica-para-orquesta-infantil-2025/
LOCATION:Centro de las Artes de Guanajuato en Salamanca\, C. Revolución 204\, Centro\, Salamanca\, Guanajuato\, 36700\, Mexico
CATEGORIES:Música
ATTACH;FMTTYPE=image/jpeg:https://cultura.guanajuato.gob.mx/wp-content/uploads/2025/08/Cartel-LSRV2H.jpg
END:VEVENT
END:VCALENDAR