BEGIN:VCALENDAR
VERSION:2.0
PRODID:-//Cultura - ECPv6.15.20//NONSGML v1.0//EN
CALSCALE:GREGORIAN
METHOD:PUBLISH
X-WR-CALNAME:Cultura
X-ORIGINAL-URL:https://cultura.guanajuato.gob.mx
X-WR-CALDESC:Eventos para Cultura
REFRESH-INTERVAL;VALUE=DURATION:PT1H
X-Robots-Tag:noindex
X-PUBLISHED-TTL:PT1H
BEGIN:VTIMEZONE
TZID:UTC
BEGIN:STANDARD
TZOFFSETFROM:+0000
TZOFFSETTO:+0000
TZNAME:UTC
DTSTART:20240101T000000
END:STANDARD
END:VTIMEZONE
BEGIN:VEVENT
DTSTART;TZID=UTC:20250801T100000
DTEND;TZID=UTC:20251026T140000
DTSTAMP:20260424T193413
CREATED:20250808T215309Z
LAST-MODIFIED:20250808T215309Z
UID:11140-1754042400-1761487200@cultura.guanajuato.gob.mx
SUMMARY:Taller - La imaginación como fuerza curativa: El proceso creativo como un acto reparador y lugar de aprendizajes
DESCRIPTION:Imparte: Eve Alcalá González \nSinopsis:  Acompañar a las personas talleristas a través de las artes expresivas\, el movimiento somático\, la neurociencia del cuerpo\, y la práctica narrativa. \nA través de la exploración\, la experimentación\, el juego y la pregunta\, se habilitará un espacio seguro para abrirse al proceso de crear un nuevo territorio de aprendizaje-enseñanza donde el estar\, sentir\, pensar\, hacer y compartir\, ofrecerán una alternativa de formación que afirme la vida a través de la experiencia estética de cada participante. \nAsí mismo\, nos inspiraremos en sures teóricos pedagógicos\, y saberes orales\, orientados a incorporar el punto de vista del cuerpo como el lugar donde acontece todo aprendizaje y conocimiento.\nDirigido a: Personas mediadoras educativas\, docentes\, talleristas\, artistas y a todo público con interés en desarrollar habilidades y herramientas en los procesos de aprendizaje y enseñanza.\nFechas y horarios: Del 1 de agosto al 26 de octubre de 2025. \nLas sesiones virtuales se impartirán los lunes 11 y 25 de agosto\, 8 de septiembre y 6 de octubre de 2025. De 18:00 a 20:00 h \nLas sesiones presenciales se impartirán los días del 1 al 3 de agosto\, del 19 al 21 de septiembre y del 24 al 26 de octubre de 2025. Los viernes de 16:00 a 19:00 horas y los sábados y domingos de 10:00 a 14:00 h \nModalidad: Semipresencial
URL:https://cultura.guanajuato.gob.mx/index.php/evento/taller-la-imaginacion-como-fuerza-curativa-el-proceso-creativo-como-un-acto-reparador-y-lugar-de-aprendizajes/
LOCATION:Centro de las Artes de Guanajuato en Salamanca\, C. Revolución 204\, Centro\, Salamanca\, Guanajuato\, 36700\, Mexico
CATEGORIES:Talleres
ATTACH;FMTTYPE=image/jpeg:https://cultura.guanajuato.gob.mx/wp-content/uploads/2025/07/Cartel-90-lrSd8L.jpg
END:VEVENT
BEGIN:VEVENT
DTSTART;TZID=UTC:20250830T150000
DTEND;TZID=UTC:20250921T170000
DTSTAMP:20260424T193413
CREATED:20250808T221233Z
LAST-MODIFIED:20250808T221233Z
UID:11154-1756566000-1758474000@cultura.guanajuato.gob.mx
SUMMARY:Taller: El color en el grabado
DESCRIPTION:Imparte: ​Gilberto Guerrero  \nSinopsis: Este taller tiene el objetivo de otorgar a las personas participantes del taller los conocimientos sobre el comportamiento de la tinta y los pigmentos utilizados en el grabado para aplicarlos a la producción de grabado profesional.  \nEste taller se orientará a trabajar piezas como un homenaje a Joy Laville (Reino Unido 1923-México 2018)\, fusionando técnica y sensibilidad\, con estampas tributo a la artista quien\, al residir y crear en México\, se convirtió en una de las artistas más relevantes de nuestro país y de Guanajuato.\nLos resultados de este taller se presentarán como parte del programa de artes visuales del Festival Internacional Cervantino en su edición 53\, en alineación a Reino Unido como país invitado de honor\, en una muestra tributo a Joy Laville.  \nDirigido a: Artistas visuales emergentes y con trayectoria con especialización y experiencia en procesos de grabado calcográfico. \nDuración: 40 horas \nFechas y horarios: Los sábados y domingos del 30 de agosto al 21 de septiembre de 2025. De 11:00 a 14:00 horas y de 15:00 a 17:00 h \nModalidad: ​Presencial
URL:https://cultura.guanajuato.gob.mx/index.php/evento/taller-el-color-en-el-grabado/
LOCATION:Centro de las Artes de Guanajuato en Salamanca\, C. Revolución 204\, Centro\, Salamanca\, Guanajuato\, 36700\, Mexico
CATEGORIES:Talleres
ATTACH;FMTTYPE=image/jpeg:https://cultura.guanajuato.gob.mx/wp-content/uploads/2025/08/1080x1080-Taller-de-color-en-el-grabado.jpg
END:VEVENT
BEGIN:VEVENT
DTSTART;TZID=UTC:20250905T160000
DTEND;TZID=UTC:20250913T180000
DTSTAMP:20260424T193413
CREATED:20250808T223211Z
LAST-MODIFIED:20250829T231745Z
UID:11163-1757088000-1757786400@cultura.guanajuato.gob.mx
SUMMARY:Las Razones de mi cuerp@\, Laboratorio de creación de unipersonales + Función: Antropologías coreográficas
DESCRIPTION:Imparte: Fidel Jaciel Neri Juárez\, Paola Balán y Daniela Cabrera. \nSinopsis: Este laboratorio de creación profundiza en la diversidad de cualidades que contiene cada ser humano como ser creador. Se proponen preguntas detonadoras que posibiliten entender y encontrar lo singular de cada participante para reconocer y valorar lo que cada cuerpo conserva\, resignifica a través de la memoria y expresa. Durante las sesiones se abordarán temas como: la memoria de mi entorno\, los contextos de mi cuerpo\, cuerpo-antropología\, las relaciones corpo-objetuales\, la contemplación de mis intangibles. \nAntropologías Coreográficas\, es una obra coreográfica compuesta por unipersonales que integran una perspectiva coreográfica y antropológica \nDirigido a: Estudiantes a nivel intermedio de teatro y danza contemporánea\, estudiantes a nivel intermedio-avanzado de distintos géneros dancísticos; y practicantes a nivel intermedio-avanzado de distintas disciplinas escénicas y corporales como: aerealismo\, circo\, performance\, danza contemporánea\, artes marciales\, teatro físico\, entre otras. \nFechas y horarios:  Los días 5\, 6\, 12 y 13 de septiembre de 2025. Los viernes de 16:00 a 20:00 horas y los sábados de 10:00 a 14:00 horas y de 16:00 a 18:00 h \nPresentación de resultados: El sábado 13 de septiembre de 2025 a las 18:00 h \nModalidad: Presencial
URL:https://cultura.guanajuato.gob.mx/index.php/evento/las-razones-de-mi-cuerp-laboratorio-de-creacion-de-unipersonales-funcion-antropologias-coreograficas/
LOCATION:Centro de las Artes de Guanajuato en Salamanca\, C. Revolución 204\, Centro\, Salamanca\, Guanajuato\, 36700\, Mexico
CATEGORIES:Talleres
ATTACH;FMTTYPE=image/jpeg:https://cultura.guanajuato.gob.mx/wp-content/uploads/2025/07/Cartel-90-lrSd8L.jpg
END:VEVENT
BEGIN:VEVENT
DTSTART;TZID=UTC:20250905T160000
DTEND;TZID=UTC:20251003T180000
DTSTAMP:20260424T193413
CREATED:20250808T222908Z
LAST-MODIFIED:20250829T231138Z
UID:11161-1757088000-1759514400@cultura.guanajuato.gob.mx
SUMMARY:Laboratorio de Teatro: Texto\, Cuerpo y Movimiento
DESCRIPTION:Imparte: Frine Marcela Molina Rodríguez \nSinopsis: Las personas participantes descubrirán diversos lenguajes corporales de investigación de movimiento para construir breves piezas escénicas con sólidos fundamentos teóricos y metodológicos\, integrando distintas disciplinas artísticas con otras áreas de conocimiento. \nDirigido a: Estudiantes a nivel intermedio de teatro y danza contemporánea\, estudiantes a nivel intermedio-avanzado de distintos géneros dancísticos; y practicantes a nivel intermedio-avanzado de distintas disciplinas escénicas y corporales como: aerealismo\, circo\, performance\, danza contemporánea\, artes marciales\, teatro físico\, entre otras \nFechas y horarios: Los viernes y sábados del 5 de septiembre al 3 de octubre de 2025. Los viernes de 16:00 a 20:00 horas y sábados de 10:00 a 14:00 h \n*Únicamente los sábados 6 y 13 de septiembre el horario será de 16:00 a 18:00 h\nPresentación de resultados: El viernes 3 de octubre de 2025 a las 18:00 h \nModalidad: Presencial
URL:https://cultura.guanajuato.gob.mx/index.php/evento/laboratorio-de-teatro-texto-cuerpo-y-movimiento/
LOCATION:Centro de las Artes de Guanajuato en Salamanca\, C. Revolución 204\, Centro\, Salamanca\, Guanajuato\, 36700\, Mexico
CATEGORIES:Talleres
ATTACH;FMTTYPE=image/jpeg:https://cultura.guanajuato.gob.mx/wp-content/uploads/2025/07/Cartel-90-lrSd8L.jpg
END:VEVENT
END:VCALENDAR