BEGIN:VCALENDAR
VERSION:2.0
PRODID:-//Cultura - ECPv6.15.20//NONSGML v1.0//EN
CALSCALE:GREGORIAN
METHOD:PUBLISH
X-ORIGINAL-URL:https://cultura.guanajuato.gob.mx
X-WR-CALDESC:Eventos para Cultura
REFRESH-INTERVAL;VALUE=DURATION:PT1H
X-Robots-Tag:noindex
X-PUBLISHED-TTL:PT1H
BEGIN:VTIMEZONE
TZID:America/Mexico_City
BEGIN:STANDARD
TZOFFSETFROM:-0600
TZOFFSETTO:-0600
TZNAME:CST
DTSTART:20250101T000000
END:STANDARD
END:VTIMEZONE
BEGIN:VEVENT
DTSTART;TZID=America/Mexico_City:20260313T100000
DTEND;TZID=America/Mexico_City:20260314T170000
DTSTAMP:20260420T095943
CREATED:20260304T004335Z
LAST-MODIFIED:20260304T004335Z
UID:12165-1773396000-1773507600@cultura.guanajuato.gob.mx
SUMMARY:Exposición: Arte que une\, conciencia que cuida
DESCRIPTION:En el marco de los Interculturales de los colegios jesuitas de México 2026\, la sede Forum de la Secretaría de Cultura de Guanajuato —donde durante años se ubicó el Instituto Lux— será punto de encuentro para actividades en los jardines\, el Teatro del Bicentenario y la Biblioteca Central Estatal Wigberto Jiménez Moreno. \nEvento Sin Costo \nLugar: Biblioteca Central Estatal\nCiudad: León
URL:https://cultura.guanajuato.gob.mx/index.php/evento/exposicion-arte-que-une-conciencia-que-cuida/
LOCATION:Biblioteca Central Estatal\, Prol. C. Calz. de los Héroes 908\, La Martinica\, León\, Guanajuato\, 37500
CATEGORIES:Exposiciones
ATTACH;FMTTYPE=image/jpeg:https://cultura.guanajuato.gob.mx/wp-content/uploads/2025/08/Cartel-LSRV2H.jpg
END:VEVENT
END:VCALENDAR