BEGIN:VCALENDAR
VERSION:2.0
PRODID:-//Cultura - ECPv6.15.20//NONSGML v1.0//EN
CALSCALE:GREGORIAN
METHOD:PUBLISH
X-WR-CALNAME:Cultura
X-ORIGINAL-URL:https://cultura.guanajuato.gob.mx
X-WR-CALDESC:Eventos para Cultura
REFRESH-INTERVAL;VALUE=DURATION:PT1H
X-Robots-Tag:noindex
X-PUBLISHED-TTL:PT1H
BEGIN:VTIMEZONE
TZID:America/Mexico_City
BEGIN:STANDARD
TZOFFSETFROM:-0600
TZOFFSETTO:-0600
TZNAME:CST
DTSTART:20240101T000000
END:STANDARD
END:VTIMEZONE
BEGIN:VEVENT
DTSTART;TZID=America/Mexico_City:20250708T100000
DTEND;TZID=America/Mexico_City:20250708T110000
DTSTAMP:20260421T070718
CREATED:20250701T001124Z
LAST-MODIFIED:20250709T164107Z
UID:10001-1751968800-1751972400@cultura.guanajuato.gob.mx
SUMMARY:La escuela al Museo: Caligrafía y círculos de vida
DESCRIPTION:La escuela al Museo: Caligrafía y círculos de vida.   \nVincula la exposición temporal “Señales de Vida” donde René Serrano nos invita a explorar la caligrafía y los círculos como “son representaciones de la vida y la muerte”. \nAl término de la visita\, se les realiza un pequeño taller\, donde explorarán su caligrafía y lo que significa para cada uno de los participantes  los ciclos. \nSin costo
URL:https://cultura.guanajuato.gob.mx/index.php/evento/la-escuela-al-museo-caligrafia-y-circulos-de-vida-2/
LOCATION:Museo José y Tomás Chávez Morado\, General Vicente Guerrero 1\, Centro\, Silao\, Guanajuato\, 36100\, Mexico
CATEGORIES:Talleres
ATTACH;FMTTYPE=image/png:https://cultura.guanajuato.gob.mx/wp-content/uploads/2025/07/caligrafia-circulos.png
END:VEVENT
BEGIN:VEVENT
DTSTART;TZID=America/Mexico_City:20250715T100000
DTEND;TZID=America/Mexico_City:20250715T110000
DTSTAMP:20260421T070718
CREATED:20250701T193926Z
LAST-MODIFIED:20250713T174844Z
UID:10092-1752573600-1752577200@cultura.guanajuato.gob.mx
SUMMARY:La escuela al Museo: Caligrafía y círculos de vida
DESCRIPTION:La escuela al Museo: Caligrafía y círculos de vida. \nVincula la exposición temporal “Señales de Vida” donde René Serrano nos invita a explorar la caligrafía y los círculos como “representaciones de la vida y la muerte”. \nAl término de la visita\, se les realiza un pequeño taller\, donde explorarán su caligrafía y lo que significan para cada uno de los participantes los ciclos. \nSin costo
URL:https://cultura.guanajuato.gob.mx/index.php/evento/la-escuela-al-museo-caligrafia-y-circulos-de-vida-4/
LOCATION:Museo José y Tomás Chávez Morado\, General Vicente Guerrero 1\, Centro\, Silao\, Guanajuato\, 36100\, Mexico
CATEGORIES:Talleres
ATTACH;FMTTYPE=image/png:https://cultura.guanajuato.gob.mx/wp-content/uploads/2025/07/01.png
END:VEVENT
BEGIN:VEVENT
DTSTART;TZID=America/Mexico_City:20250718T120000
DTEND;TZID=America/Mexico_City:20250718T130000
DTSTAMP:20260421T070718
CREATED:20250701T201032Z
LAST-MODIFIED:20250713T180345Z
UID:10151-1752840000-1752843600@cultura.guanajuato.gob.mx
SUMMARY:¡Vámonos de vacaciones a los museos! Talleres familiares
DESCRIPTION:¡Vámonos de vacaciones a los museos!\nTalleres familiares \nGoza de estas vacaciones de verano con tu familia participando en los diferentes talleres que tenemos para ti en los museos de la Secretaría de Cultura. Crea increíbles obras con diversas técnicas y sorpréndete por las maravillosas exposiciones que encontrarás en cada sede.\nEspera y consulta la programación de cada museo. \nSin costo
URL:https://cultura.guanajuato.gob.mx/index.php/evento/vamonos-de-vacaciones-a-los-museos-talleres-familiares7/
LOCATION:Museo José y Tomás Chávez Morado\, General Vicente Guerrero 1\, Centro\, Silao\, Guanajuato\, 36100\, Mexico
CATEGORIES:Talleres
ATTACH;FMTTYPE=image/jpeg:https://cultura.guanajuato.gob.mx/wp-content/uploads/2025/07/Cartel-2.jpg
END:VEVENT
BEGIN:VEVENT
DTSTART;TZID=America/Mexico_City:20250728T100000
DTEND;TZID=America/Mexico_City:20250728T110000
DTSTAMP:20260421T070718
CREATED:20250701T213944Z
LAST-MODIFIED:20250709T164849Z
UID:10260-1753696800-1753700400@cultura.guanajuato.gob.mx
SUMMARY:Reinventando la costumbre\, experimenta un verano en el museo
DESCRIPTION:Reinventando la costumbre\, experimenta un verano en el museo\nDescubre más sobre las pinturas costumbristas y aprendamos juntos cómo podemos conocer más sobre nuestro entorno a partir del dibujo\, la pintura\, escultura y muchas más divertidas formas de arte que tenemos para ti. \n28 al 31 de julio y 04 al 07 de agosto. Para niños y niñas de 7 a 12 años \nIncluye kit y materiales
URL:https://cultura.guanajuato.gob.mx/index.php/evento/reinventando-la-costumbre-experimenta-un-verano-en-el-museo83/
LOCATION:Museo José y Tomás Chávez Morado\, General Vicente Guerrero 1\, Centro\, Silao\, Guanajuato\, 36100\, Mexico
CATEGORIES:Talleres
ATTACH;FMTTYPE=image/jpeg:https://cultura.guanajuato.gob.mx/wp-content/uploads/2025/07/reinventando-chavez-moraxdo.jpg
END:VEVENT
BEGIN:VEVENT
DTSTART;TZID=America/Mexico_City:20250729T160000
DTEND;TZID=America/Mexico_City:20250729T170000
DTSTAMP:20260421T070718
CREATED:20250701T214616Z
LAST-MODIFIED:20250701T214857Z
UID:10275-1753804800-1753808400@cultura.guanajuato.gob.mx
SUMMARY:Taller de cómic “La máquina del tiempo”
DESCRIPTION:Aprende a realizar un cómic con distintas técnicas y estilos de dibujo\, para crear una historia única.
URL:https://cultura.guanajuato.gob.mx/index.php/evento/taller-de-comic-la-maquina-del-tiempo1/
LOCATION:Guanajuato
CATEGORIES:Talleres
ATTACH;FMTTYPE=image/png:https://cultura.guanajuato.gob.mx/wp-content/uploads/2025/07/Cartel-94-T6e4Si.png
END:VEVENT
END:VCALENDAR